BEGIN:VCALENDAR
VERSION:2.0
PRODID:-//Staten Island Museum - ECPv6.15.20//NONSGML v1.0//EN
CALSCALE:GREGORIAN
METHOD:PUBLISH
X-WR-CALNAME:Staten Island Museum
X-ORIGINAL-URL:https://www.statenislandmuseum.org
X-WR-CALDESC:Events for Staten Island Museum
REFRESH-INTERVAL;VALUE=DURATION:PT1H
X-Robots-Tag:noindex
X-PUBLISHED-TTL:PT1H
BEGIN:VTIMEZONE
TZID:America/New_York
BEGIN:DAYLIGHT
TZOFFSETFROM:-0500
TZOFFSETTO:-0400
TZNAME:EDT
DTSTART:20250309T070000
END:DAYLIGHT
BEGIN:STANDARD
TZOFFSETFROM:-0400
TZOFFSETTO:-0500
TZNAME:EST
DTSTART:20251102T060000
END:STANDARD
BEGIN:DAYLIGHT
TZOFFSETFROM:-0500
TZOFFSETTO:-0400
TZNAME:EDT
DTSTART:20260308T070000
END:DAYLIGHT
BEGIN:STANDARD
TZOFFSETFROM:-0400
TZOFFSETTO:-0500
TZNAME:EST
DTSTART:20261101T060000
END:STANDARD
BEGIN:DAYLIGHT
TZOFFSETFROM:-0500
TZOFFSETTO:-0400
TZNAME:EDT
DTSTART:20270314T070000
END:DAYLIGHT
BEGIN:STANDARD
TZOFFSETFROM:-0400
TZOFFSETTO:-0500
TZNAME:EST
DTSTART:20271107T060000
END:STANDARD
END:VTIMEZONE
BEGIN:VEVENT
DTSTART;TZID=America/New_York:20260225T100000
DTEND;TZID=America/New_York:20260225T120000
DTSTAMP:20260421T131742
CREATED:20260107T202439Z
LAST-MODIFIED:20260107T202439Z
UID:10000555-1772013600-1772020800@www.statenislandmuseum.org
SUMMARY:Bird and Nature Walk: Brookfield Park
DESCRIPTION:Join naturalists Ed Johnson and Ray Matarazzo with Director of Natural Science Colleen Evans on guided walks through the borough of parks. \nThe wide open skies of Brookfield Park make it the ideal place to search for wintering raptors\, while the creeks hold a variety of waterfowl.  Meet in parking lot off Arthur Kill Road.
URL:https://www.statenislandmuseum.org/event/bird-and-nature-walk-brookfield-park-5/
LOCATION:Brooklfield Park\, Arthur Kill Rd. bet. Richmond Ave. and New Vale Ave.\, Staten Island\, 10308\, United States
CATEGORIES:Nature Walk
ATTACH;FMTTYPE=image/jpeg:https://www.statenislandmuseum.org/wp-content/uploads/2024/11/Brookfield-Park_Oct-2024-scaled.jpg
END:VEVENT
END:VCALENDAR