BEGIN:VCALENDAR
VERSION:2.0
PRODID:-//Staten Island Museum - ECPv6.15.20//NONSGML v1.0//EN
CALSCALE:GREGORIAN
METHOD:PUBLISH
X-ORIGINAL-URL:https://www.statenislandmuseum.org
X-WR-CALDESC:Events for Staten Island Museum
REFRESH-INTERVAL;VALUE=DURATION:PT1H
X-Robots-Tag:noindex
X-PUBLISHED-TTL:PT1H
BEGIN:VTIMEZONE
TZID:America/New_York
BEGIN:DAYLIGHT
TZOFFSETFROM:-0500
TZOFFSETTO:-0400
TZNAME:EDT
DTSTART:20230312T070000
END:DAYLIGHT
BEGIN:STANDARD
TZOFFSETFROM:-0400
TZOFFSETTO:-0500
TZNAME:EST
DTSTART:20231105T060000
END:STANDARD
BEGIN:DAYLIGHT
TZOFFSETFROM:-0500
TZOFFSETTO:-0400
TZNAME:EDT
DTSTART:20240310T070000
END:DAYLIGHT
BEGIN:STANDARD
TZOFFSETFROM:-0400
TZOFFSETTO:-0500
TZNAME:EST
DTSTART:20241103T060000
END:STANDARD
BEGIN:DAYLIGHT
TZOFFSETFROM:-0500
TZOFFSETTO:-0400
TZNAME:EDT
DTSTART:20250309T070000
END:DAYLIGHT
BEGIN:STANDARD
TZOFFSETFROM:-0400
TZOFFSETTO:-0500
TZNAME:EST
DTSTART:20251102T060000
END:STANDARD
END:VTIMEZONE
BEGIN:VEVENT
DTSTART;TZID=America/New_York:20240725T190000
DTEND;TZID=America/New_York:20240725T210000
DTSTAMP:20260420T151920
CREATED:20240626T195451Z
LAST-MODIFIED:20240628T153953Z
UID:10000378-1721934000-1721941200@www.statenislandmuseum.org
SUMMARY:Summer Nights | Metal Embossing with Color with Janice Patrignani
DESCRIPTION:$35/$30 members. Includes museum admission. \nLearn how to manipulate metal to create a work of art. In this class you will learn how to create beautiful designs on a craft metal sheet using a variety of tools. Participants will create freehand designs or use stencils to design unique metal pieces brought to live through color. \nRegistration required. \nAll materials provided. Includes wine (21+)\, snacks\, and museum admission!
URL:https://www.statenislandmuseum.org/event/summer-nights-metal-embossing-with-color-with-janice-patrignani/
LOCATION:Staten Island Museum at Snug Harbor\, 1000 Richmond Terrace\, Building A\, Staten Island\, NY\, 10301\, United States
ATTACH;FMTTYPE=image/jpeg:https://www.statenislandmuseum.org/wp-content/uploads/2024/06/Website-v2.jpg
END:VEVENT
END:VCALENDAR