BEGIN:VCALENDAR
VERSION:2.0
PRODID:-//Staten Island Museum - ECPv6.15.20//NONSGML v1.0//EN
CALSCALE:GREGORIAN
METHOD:PUBLISH
X-ORIGINAL-URL:https://www.statenislandmuseum.org
X-WR-CALDESC:Events for Staten Island Museum
REFRESH-INTERVAL;VALUE=DURATION:PT1H
X-Robots-Tag:noindex
X-PUBLISHED-TTL:PT1H
BEGIN:VTIMEZONE
TZID:America/New_York
BEGIN:DAYLIGHT
TZOFFSETFROM:-0500
TZOFFSETTO:-0400
TZNAME:EDT
DTSTART:20230312T070000
END:DAYLIGHT
BEGIN:STANDARD
TZOFFSETFROM:-0400
TZOFFSETTO:-0500
TZNAME:EST
DTSTART:20231105T060000
END:STANDARD
BEGIN:DAYLIGHT
TZOFFSETFROM:-0500
TZOFFSETTO:-0400
TZNAME:EDT
DTSTART:20240310T070000
END:DAYLIGHT
BEGIN:STANDARD
TZOFFSETFROM:-0400
TZOFFSETTO:-0500
TZNAME:EST
DTSTART:20241103T060000
END:STANDARD
BEGIN:DAYLIGHT
TZOFFSETFROM:-0500
TZOFFSETTO:-0400
TZNAME:EDT
DTSTART:20250309T070000
END:DAYLIGHT
BEGIN:STANDARD
TZOFFSETFROM:-0400
TZOFFSETTO:-0500
TZNAME:EST
DTSTART:20251102T060000
END:STANDARD
END:VTIMEZONE
BEGIN:VEVENT
DTSTART;TZID=America/New_York:20240508T100000
DTEND;TZID=America/New_York:20240508T120000
DTSTAMP:20260419T202819
CREATED:20240318T192311Z
LAST-MODIFIED:20240318T192311Z
UID:10000486-1715162400-1715169600@www.statenislandmuseum.org
SUMMARY:Bird and Nature Walk: Wolfe's Pond Park
DESCRIPTION:Join naturalists Ed Johnson and Ray Matarazzo with Director of Natural Science Colleen Evans on guided walks through the borough of parks. \nAs one of Staten Island’s largest parks\, Wolfe’s Pond Park offers stunning streches of beach along with acres of wildlife and plant preserve. \nMeet in the parking lot near the Parks Dept. buildings.
URL:https://www.statenislandmuseum.org/event/bird-and-nature-walk-wolfes-pond-park-3/
LOCATION:Wolfe’s Pond Park\, 420 Cornelia Ave\, Staten Island\, NY\, 10312\, United States
CATEGORIES:Nature Walk
ATTACH;FMTTYPE=image/jpeg:https://www.statenislandmuseum.org/wp-content/uploads/2023/12/great-blue-herron-bird.jpg
END:VEVENT
BEGIN:VEVENT
DTSTART;TZID=America/New_York:20240510T190000
DTEND;TZID=America/New_York:20240510T230000
DTSTAMP:20260419T202819
CREATED:20240318T153849Z
LAST-MODIFIED:20240318T153849Z
UID:10000481-1715367600-1715382000@www.statenislandmuseum.org
SUMMARY:Staten Island Museum Gala
DESCRIPTION:Join us for a sparklingly good time! \nThis highly anticipated occasion is the Museum’s cornerstone fundraising event for the year and an opportunity to bring constituents together\, celebrate our accomplishments and honor remarkable community members. \nHONORING\nAlice B. Diamond\, New York State Nurses Association\, and The Reid Family: Gabri Christa – Idea Reid – Vernon Reid. \nSee event page for details and tickets: www.StatenIslandMuseum.org/Gala2024
URL:https://www.statenislandmuseum.org/event/staten-island-museum-gala/
LOCATION:Richmond County Country Club\, 1 the oval\, Staten Island\, NY\, 10304\, United States
CATEGORIES:Special Events
ATTACH;FMTTYPE=image/png:https://www.statenislandmuseum.org/wp-content/uploads/2024/02/Gala_Homepage_4x3.png
END:VEVENT
END:VCALENDAR