BEGIN:VCALENDAR
VERSION:2.0
PRODID:-//Staten Island Museum - ECPv6.15.20//NONSGML v1.0//EN
CALSCALE:GREGORIAN
METHOD:PUBLISH
X-ORIGINAL-URL:https://www.statenislandmuseum.org
X-WR-CALDESC:Events for Staten Island Museum
REFRESH-INTERVAL;VALUE=DURATION:PT1H
X-Robots-Tag:noindex
X-PUBLISHED-TTL:PT1H
BEGIN:VTIMEZONE
TZID:America/New_York
BEGIN:DAYLIGHT
TZOFFSETFROM:-0500
TZOFFSETTO:-0400
TZNAME:EDT
DTSTART:20230312T070000
END:DAYLIGHT
BEGIN:STANDARD
TZOFFSETFROM:-0400
TZOFFSETTO:-0500
TZNAME:EST
DTSTART:20231105T060000
END:STANDARD
BEGIN:DAYLIGHT
TZOFFSETFROM:-0500
TZOFFSETTO:-0400
TZNAME:EDT
DTSTART:20240310T070000
END:DAYLIGHT
BEGIN:STANDARD
TZOFFSETFROM:-0400
TZOFFSETTO:-0500
TZNAME:EST
DTSTART:20241103T060000
END:STANDARD
BEGIN:DAYLIGHT
TZOFFSETFROM:-0500
TZOFFSETTO:-0400
TZNAME:EDT
DTSTART:20250309T070000
END:DAYLIGHT
BEGIN:STANDARD
TZOFFSETFROM:-0400
TZOFFSETTO:-0500
TZNAME:EST
DTSTART:20251102T060000
END:STANDARD
END:VTIMEZONE
BEGIN:VEVENT
DTSTART;TZID=America/New_York:20240801T190000
DTEND;TZID=America/New_York:20240801T210000
DTSTAMP:20260419T202726
CREATED:20240626T195626Z
LAST-MODIFIED:20240717T162303Z
UID:10000380-1722538800-1722546000@www.statenislandmuseum.org
SUMMARY:Summer Nights | Silk Painting with Janice Patrignani
DESCRIPTION:$35/$30 members. Includes museum admission. \nLearn the basics of silk painting to create unique textiles and decorative elements. This fun\, introductory workshop provides a structured introduction to the techniques of painting on silk. This medium offers participants of all skill levels the opportunity to create one of a kind works of art. \nRegistration required. \nAll materials provided. Includes wine (21+)\, snacks\, and museum admission!
URL:https://www.statenislandmuseum.org/event/summer-nights-silk-painting-with-janice-patrignani/
LOCATION:Staten Island Museum at Snug Harbor\, 1000 Richmond Terrace\, Building A\, Staten Island\, NY\, 10301\, United States
ATTACH;FMTTYPE=image/jpeg:https://www.statenislandmuseum.org/wp-content/uploads/2024/06/silk-painting-2.jpg
END:VEVENT
BEGIN:VEVENT
DTSTART;TZID=America/New_York:20240821T140000
DTEND;TZID=America/New_York:20240821T160000
DTSTAMP:20260419T202726
CREATED:20240815T183751Z
LAST-MODIFIED:20240815T183751Z
UID:10000493-1724248800-1724256000@www.statenislandmuseum.org
SUMMARY:Bird and Nature Walk: Great Kills Park
DESCRIPTION:Join naturalists Ed Johnson and Ray Matarazzo with Director of Natural Science Colleen Evans on guided walks through the borough of parks. \nThe highlights for this walk will be migrating shorebirds\, in addition to waders and assorted terns. \nMeet in the big parking lot\, and we will decide which route to take down to the beach & mud flats. Could be hot\, bring sunscreen & drinks. Timed for low tide at 4:27 pm.
URL:https://www.statenislandmuseum.org/event/bird-and-nature-walk-great-kills-park-4/
LOCATION:Great Kills Park
ATTACH;FMTTYPE=image/jpeg:https://www.statenislandmuseum.org/wp-content/uploads/2024/08/P1080472red-tailed-hawk-watching-scaled.jpg
END:VEVENT
END:VCALENDAR