BEGIN:VCALENDAR
VERSION:2.0
PRODID:-//Staten Island Museum - ECPv6.15.20//NONSGML v1.0//EN
CALSCALE:GREGORIAN
METHOD:PUBLISH
X-ORIGINAL-URL:https://www.statenislandmuseum.org
X-WR-CALDESC:Events for Staten Island Museum
REFRESH-INTERVAL;VALUE=DURATION:PT1H
X-Robots-Tag:noindex
X-PUBLISHED-TTL:PT1H
BEGIN:VTIMEZONE
TZID:America/New_York
BEGIN:DAYLIGHT
TZOFFSETFROM:-0500
TZOFFSETTO:-0400
TZNAME:EDT
DTSTART:20220313T070000
END:DAYLIGHT
BEGIN:STANDARD
TZOFFSETFROM:-0400
TZOFFSETTO:-0500
TZNAME:EST
DTSTART:20221106T060000
END:STANDARD
BEGIN:DAYLIGHT
TZOFFSETFROM:-0500
TZOFFSETTO:-0400
TZNAME:EDT
DTSTART:20230312T070000
END:DAYLIGHT
BEGIN:STANDARD
TZOFFSETFROM:-0400
TZOFFSETTO:-0500
TZNAME:EST
DTSTART:20231105T060000
END:STANDARD
BEGIN:DAYLIGHT
TZOFFSETFROM:-0500
TZOFFSETTO:-0400
TZNAME:EDT
DTSTART:20240310T070000
END:DAYLIGHT
BEGIN:STANDARD
TZOFFSETFROM:-0400
TZOFFSETTO:-0500
TZNAME:EST
DTSTART:20241103T060000
END:STANDARD
END:VTIMEZONE
BEGIN:VEVENT
DTSTART;TZID=America/New_York:20230304T140000
DTEND;TZID=America/New_York:20230304T160000
DTSTAMP:20260424T190728
CREATED:20221221T170512Z
LAST-MODIFIED:20230223T191311Z
UID:10000316-1677938400-1677945600@www.statenislandmuseum.org
SUMMARY:The Resilience Was Always There: Artist Talk and Story Sharing
DESCRIPTION:Presented in partnership with the Pride Center of Staten Island\n \nFree with museum admission \nJoin Yes\, And artists Amanda Wu and Zach Rothman-Hicks for an artist talk discussing their interactive audio archive The Resilience Was Always There. \n 
URL:https://www.statenislandmuseum.org/event/resilience/
LOCATION:Staten Island Museum at Snug Harbor\, 1000 Richmond Terrace\, Building A\, Staten Island\, NY\, 10301\, United States
CATEGORIES:Family,Special Events
ATTACH;FMTTYPE=image/jpeg:https://www.statenislandmuseum.org/wp-content/uploads/2022/12/Yes-And-Amanda-and-Zach-scaled.jpg
END:VEVENT
BEGIN:VEVENT
DTSTART;TZID=America/New_York:20230315T100000
DTEND;TZID=America/New_York:20230315T120000
DTSTAMP:20260424T190728
CREATED:20230309T204052Z
LAST-MODIFIED:20230309T204052Z
UID:10000442-1678874400-1678881600@www.statenislandmuseum.org
SUMMARY:Bird and Nature Walk: Willowbrook Park
DESCRIPTION:Search for early spring migrants\, including rusty blackbird\, ruby-crowned kinglet\, pine and palm warblers. \nJoin guides Ed Johnson\, Ray Matarazzo\, and Director of Natural Science Colleen Evans for this 1-2 mile hike through one of Staten Island’s green spaces. \nMeet by the carousel.
URL:https://www.statenislandmuseum.org/event/willowbrookpark/
LOCATION:Willowbrook Park\, 2 Eton Place\, Staten Island\, NY\, 10314\, United States
CATEGORIES:Nature Walk
ATTACH;FMTTYPE=image/jpeg:https://www.statenislandmuseum.org/wp-content/uploads/2022/10/Bird-Walks.jpg
END:VEVENT
BEGIN:VEVENT
DTSTART;TZID=America/New_York:20230323T183000
DTEND;TZID=America/New_York:20230323T200000
DTSTAMP:20260424T190728
CREATED:20221221T171827Z
LAST-MODIFIED:20230323T141512Z
UID:10000318-1679596200-1679601600@www.statenislandmuseum.org
SUMMARY:Reimagining Staten Island: A guided brainstorm with Jahtiek Long
DESCRIPTION:SOLD OUT \nDoors open at 6pm\nFree. Donations Welcome \nDonate \nJoin us for an evening of connection and ideation with artists and community stakeholders expanding the narrative around Staten Island. Community discourse is served alongside soft drinks and small bites. Ideas gathered from around the table will be entered in the Museum’s archive.
URL:https://www.statenislandmuseum.org/event/sibrainstorm/
LOCATION:Staten Island Museum at Snug Harbor\, 1000 Richmond Terrace\, Building A\, Staten Island\, NY\, 10301\, United States
CATEGORIES:Adult Learning,Special Events
ATTACH;FMTTYPE=image/jpeg:https://www.statenislandmuseum.org/wp-content/uploads/2022/12/Jahtiek-Long-Still.jpg
END:VEVENT
BEGIN:VEVENT
DTSTART;TZID=America/New_York:20230325T140000
DTEND;TZID=America/New_York:20230325T160000
DTSTAMP:20260424T190728
CREATED:20230309T203220Z
LAST-MODIFIED:20230316T163948Z
UID:10000441-1679752800-1679760000@www.statenislandmuseum.org
SUMMARY:Lockdown Staten Island Documentary: How to participate
DESCRIPTION:Free/Donations Welcome \nIn-Person Registration \nVirtual Registration \n“Lockdown Staten Island” is a project by CSI History Professor and John J. Marchi Fellow Dr. Susan Smith-Peter. The goal of this project is to document Staten Islanders’ lives during the lockdown that took place from March to June 2020—one of the most intense and memorable periods of the ongoing COVID-19 pandemic. \nSubmissions from all Staten Islanders are welcome\, including stories\, photos\, video blogs\, and various posts and captions from social media platforms. \n“Lockdown Staten Island” is part of the curatorial collaborative\, Journal of the Plague Year. This digital archive began at Arizona State University and since expanded to include collections from Australia\, New Orleans\, the Philippines\, Boston\, Canada\, Las Americas\, and Sacramento. Fellow CUNYs such as Bronx Community College\, Brooklyn College\, and City College have also joined the effort. \nLearn how to participate in and contribute your story to this archive and documentary.
URL:https://www.statenislandmuseum.org/event/lockdownsi/
LOCATION:Staten Island Museum at Snug Harbor\, 1000 Richmond Terrace\, Building A\, Staten Island\, NY\, 10301\, United States
CATEGORIES:Special Events
ATTACH;FMTTYPE=image/jpeg:https://www.statenislandmuseum.org/wp-content/uploads/2023/03/staten-island-lockdown.jpg
END:VEVENT
BEGIN:VEVENT
DTSTART;TZID=America/New_York:20230329T100000
DTEND;TZID=America/New_York:20230329T120000
DTSTAMP:20260424T190728
CREATED:20230309T204603Z
LAST-MODIFIED:20230309T204603Z
UID:10000443-1680084000-1680091200@www.statenislandmuseum.org
SUMMARY:Bird and Nature Walk: Ocean Breeze
DESCRIPTION:We will be searching the wide open trails of this park for flocks of returning blackbirds\, in addition to raptors and other early spring migrants\, including eastern phoebe and pine warbler. \nJoin guides Ed Johnson\, Ray Matarazzo\, and Director of Natural Science Colleen Evans for this 1-2 mile hike through one of Staten Island’s green spaces. \nMeet at the trail head near Quintard St. and Olympia Blvd.
URL:https://www.statenislandmuseum.org/event/bird-and-nature-walk-ocean-breeze/
LOCATION:Ocean Breeze Park\, Quintard St. and Olympia Blvd.\, Staten Island\, NY\, 10305\, United States
CATEGORIES:Nature Walk
ATTACH;FMTTYPE=image/jpeg:https://www.statenislandmuseum.org/wp-content/uploads/2022/10/Bird-Walks.jpg
END:VEVENT
END:VCALENDAR