BEGIN:VCALENDAR
VERSION:2.0
PRODID:-//Staten Island Museum - ECPv6.15.20//NONSGML v1.0//EN
CALSCALE:GREGORIAN
METHOD:PUBLISH
X-ORIGINAL-URL:https://www.statenislandmuseum.org
X-WR-CALDESC:Events for Staten Island Museum
REFRESH-INTERVAL;VALUE=DURATION:PT1H
X-Robots-Tag:noindex
X-PUBLISHED-TTL:PT1H
BEGIN:VTIMEZONE
TZID:America/New_York
BEGIN:DAYLIGHT
TZOFFSETFROM:-0500
TZOFFSETTO:-0400
TZNAME:EDT
DTSTART:20250309T070000
END:DAYLIGHT
BEGIN:STANDARD
TZOFFSETFROM:-0400
TZOFFSETTO:-0500
TZNAME:EST
DTSTART:20251102T060000
END:STANDARD
BEGIN:DAYLIGHT
TZOFFSETFROM:-0500
TZOFFSETTO:-0400
TZNAME:EDT
DTSTART:20260308T070000
END:DAYLIGHT
BEGIN:STANDARD
TZOFFSETFROM:-0400
TZOFFSETTO:-0500
TZNAME:EST
DTSTART:20261101T060000
END:STANDARD
BEGIN:DAYLIGHT
TZOFFSETFROM:-0500
TZOFFSETTO:-0400
TZNAME:EDT
DTSTART:20270314T070000
END:DAYLIGHT
BEGIN:STANDARD
TZOFFSETFROM:-0400
TZOFFSETTO:-0500
TZNAME:EST
DTSTART:20271107T060000
END:STANDARD
END:VTIMEZONE
BEGIN:VEVENT
DTSTART;TZID=America/New_York:20260422T100000
DTEND;TZID=America/New_York:20260422T120000
DTSTAMP:20260420T054611
CREATED:20260107T204758Z
LAST-MODIFIED:20260107T204758Z
UID:10000559-1776852000-1776859200@www.statenislandmuseum.org
SUMMARY:Bird and Nature Walk: Clove Lakes Park
DESCRIPTION:Join naturalists Ed Johnson and Ray Matarazzo with Director of Natural Science Colleen Evans on guided walks through the borough of parks. \nThe park should provide us with a good variety of spring migrants\, including warblers\, vireos\, thrushes\, etc. \nMeet at Victory Blvd. & Royal Oak Road (near ballfield).
URL:https://www.statenislandmuseum.org/event/bird-and-nature-walk-clove-lakes-park-9/
LOCATION:Clove Lakes Park
CATEGORIES:Nature Walk
ATTACH;FMTTYPE=image/jpeg:https://www.statenislandmuseum.org/wp-content/uploads/2024/11/Clove-Lakes_April-2024-scaled-e1767818862957.jpg
END:VEVENT
BEGIN:VEVENT
DTSTART;TZID=America/New_York:20260506T100000
DTEND;TZID=America/New_York:20260506T120000
DTSTAMP:20260420T054611
CREATED:20260416T140630Z
LAST-MODIFIED:20260416T140630Z
UID:10000570-1778061600-1778068800@www.statenislandmuseum.org
SUMMARY:Bird and Nature Walk: Conference House Park
DESCRIPTION:Join naturalists Ed Johnson and Ray Matarazzo with Director of Natural Science Colleen Evans on guided walks through the borough of parks. \nDepending on weather conditions\, there should be plenty of migrant birds in the woods\, on the lawn and along the shoreline. \nMeet on Satterlee St. in front of the Visitor’s Center.
URL:https://www.statenislandmuseum.org/event/bird-and-nature-walk-conference-house-park-9/
LOCATION:Conference House Park\, 298 Satterlee St.\, Staten Island\, NY\, 10307
CATEGORIES:Nature Walk
ATTACH;FMTTYPE=image/jpeg:https://www.statenislandmuseum.org/wp-content/uploads/2024/08/common-grackle-scaled.jpg
END:VEVENT
BEGIN:VEVENT
DTSTART;TZID=America/New_York:20260513T100000
DTEND;TZID=America/New_York:20260513T120000
DTSTAMP:20260420T054611
CREATED:20260416T140856Z
LAST-MODIFIED:20260416T140856Z
UID:10000571-1778666400-1778673600@www.statenislandmuseum.org
SUMMARY:Bird and Nature Walk: Clove Lakes Park
DESCRIPTION:Join naturalists Ed Johnson and Ray Matarazzo with Director of Natural Science Colleen Evans on guided walks through the borough of parks. \nBy mid-May\, Clove Lakes Park is usually teeming with migrating birds. \nMeet at the corner of Victory Blvd. and Royal Oak Road.
URL:https://www.statenislandmuseum.org/event/bird-and-nature-walk-clove-lakes-park-10/
LOCATION:Clove Lakes Park
CATEGORIES:Nature Walk
ATTACH;FMTTYPE=image/jpeg:https://www.statenislandmuseum.org/wp-content/uploads/2024/08/Mallard-scaled.jpg
END:VEVENT
BEGIN:VEVENT
DTSTART;TZID=America/New_York:20260520T100000
DTEND;TZID=America/New_York:20260520T120000
DTSTAMP:20260420T054611
CREATED:20260416T141227Z
LAST-MODIFIED:20260416T141227Z
UID:10000572-1779271200-1779278400@www.statenislandmuseum.org
SUMMARY:Bird and Nature Walk: Mount Loretto Unique Area
DESCRIPTION:Join naturalists Ed Johnson and Ray Matarazzo with Director of Natural Science Colleen Evans on guided walks through the borough of parks. \nMigration is slowing\, but there should still be plenty of birds to see. \nMeet in the parking lot off Hylan Blvd.
URL:https://www.statenislandmuseum.org/event/bird-and-nature-walk-mount-loretto-unique-area-6/
LOCATION:Mount Loretto Unique Area\, 20 Kenny Road\, Staten Island\, NY\, 10309\, United States
CATEGORIES:Nature Walk
ATTACH;FMTTYPE=image/jpeg:https://www.statenislandmuseum.org/wp-content/uploads/2024/11/european-starling-scaled.jpg
END:VEVENT
BEGIN:VEVENT
DTSTART;TZID=America/New_York:20260527T110000
DTEND;TZID=America/New_York:20260527T130000
DTSTAMP:20260420T054611
CREATED:20260416T141838Z
LAST-MODIFIED:20260416T141838Z
UID:10000573-1779879600-1779886800@www.statenislandmuseum.org
SUMMARY:Bird and Nature Walk: Great Kills Park
DESCRIPTION:Join naturalists Ed Johnson and Ray Matarazzo with Director of Natural Science Colleen Evans on guided walks through the borough of parks. \nShorebirds and waders will be the target species on this trip. \nMeet at 11am in the big parking lot near the playground (Low tide is 11:39 am).
URL:https://www.statenislandmuseum.org/event/bird-and-nature-walk-great-kills-park-8/
LOCATION:Great Kills Park
CATEGORIES:Nature Walk
ATTACH;FMTTYPE=image/jpeg:https://www.statenislandmuseum.org/wp-content/uploads/2024/11/Great-Kills_August-2024_2-scaled-e1745510745966.jpg
END:VEVENT
BEGIN:VEVENT
DTSTART;TZID=America/New_York:20260610T100000
DTEND;TZID=America/New_York:20260610T120000
DTSTAMP:20260420T054611
CREATED:20260416T142249Z
LAST-MODIFIED:20260416T142249Z
UID:10000574-1781085600-1781092800@www.statenislandmuseum.org
SUMMARY:Bird and Nature Walk: Field of Dreams - New Springville
DESCRIPTION:Join naturalists Ed Johnson and Ray Matarazzo with Director of Natural Science Colleen Evans on guided walks through the borough of parks. \nWe will be looking for nesting birds\, evidence of old grist mills\, and other interesting things in this little visited (at least by us) park. \nMeet in the parking lot located off Forest Hill Road\, just down from Richmond Ave.. (Entrance is across Forest Hill Road from Costco.)
URL:https://www.statenislandmuseum.org/event/bird-and-nature-walk-field-of-dreams-new-springville-2/
LOCATION:Greenbelt Field of Dreams\, Alaska Place &\, Forest Hill Rd.\, Staten Island\, NY\, 10306\, United States
CATEGORIES:Nature Walk
ATTACH;FMTTYPE=image/jpeg:https://www.statenislandmuseum.org/wp-content/uploads/2024/11/white-throated-sparrow-scaled.jpg
END:VEVENT
BEGIN:VEVENT
DTSTART;TZID=America/New_York:20260624T100000
DTEND;TZID=America/New_York:20260624T120000
DTSTAMP:20260420T054611
CREATED:20260416T142728Z
LAST-MODIFIED:20260416T142728Z
UID:10000575-1782295200-1782302400@www.statenislandmuseum.org
SUMMARY:Bird and Nature Walk: Wolfe's Pond Park
DESCRIPTION:Join naturalists Ed Johnson and Ray Matarazzo with Director of Natural Science Colleen Evans on guided walks through the borough of parks. \nWe will search for nesting birds in the woods and open areas\, as well as gulls\, terns and waders along Raritan Bay. \nMeet in the parking lot near the Parks Dept. buildings.
URL:https://www.statenislandmuseum.org/event/bird-and-nature-walk-wolfes-pond-park-9/
LOCATION:Wolfe’s Pond Park\, 420 Cornelia Ave.\, Staten Island\, NY\, 10312\, United States
CATEGORIES:Nature Walk
ATTACH;FMTTYPE=image/jpeg:https://www.statenislandmuseum.org/wp-content/uploads/2024/11/Wolfes-Pond_October-2021-scaled.jpg
END:VEVENT
BEGIN:VEVENT
DTSTART;TZID=America/New_York:20260820T130000
DTEND;TZID=America/New_York:20260820T150000
DTSTAMP:20260420T054611
CREATED:20260416T143245Z
LAST-MODIFIED:20260416T143245Z
UID:10000576-1787230800-1787238000@www.statenislandmuseum.org
SUMMARY:Bird and Nature Walk: Great Kills Park
DESCRIPTION:Join naturalists Ed Johnson and Ray Matarazzo with Director of Natural Science Colleen Evans on guided walks through the borough of parks. \nThe highlights for this walk will be migrating shorebirds\, in addition to waders and assorted gulls and terns. \nMeet in the big parking lot at 1pm (Low tide is at 1:28 pm)\, and we will decide which route to take down to the beach & mud flats. Could be hot\, bring sunscreen & drinks.
URL:https://www.statenislandmuseum.org/event/bird-and-nature-walk-great-kills-park-9/
LOCATION:Great Kills Park
CATEGORIES:Nature Walk
ATTACH;FMTTYPE=image/jpeg:https://www.statenislandmuseum.org/wp-content/uploads/2024/11/Great-Kills_August-2024_1-scaled-e1730911792755.jpg
END:VEVENT
END:VCALENDAR