BEGIN:VCALENDAR
VERSION:2.0
PRODID:-//Staten Island Museum - ECPv6.15.20//NONSGML v1.0//EN
CALSCALE:GREGORIAN
METHOD:PUBLISH
X-WR-CALNAME:Staten Island Museum
X-ORIGINAL-URL:https://www.statenislandmuseum.org
X-WR-CALDESC:Events for Staten Island Museum
REFRESH-INTERVAL;VALUE=DURATION:PT1H
X-Robots-Tag:noindex
X-PUBLISHED-TTL:PT1H
BEGIN:VTIMEZONE
TZID:America/New_York
BEGIN:DAYLIGHT
TZOFFSETFROM:-0500
TZOFFSETTO:-0400
TZNAME:EDT
DTSTART:20240310T070000
END:DAYLIGHT
BEGIN:STANDARD
TZOFFSETFROM:-0400
TZOFFSETTO:-0500
TZNAME:EST
DTSTART:20241103T060000
END:STANDARD
BEGIN:DAYLIGHT
TZOFFSETFROM:-0500
TZOFFSETTO:-0400
TZNAME:EDT
DTSTART:20250309T070000
END:DAYLIGHT
BEGIN:STANDARD
TZOFFSETFROM:-0400
TZOFFSETTO:-0500
TZNAME:EST
DTSTART:20251102T060000
END:STANDARD
BEGIN:DAYLIGHT
TZOFFSETFROM:-0500
TZOFFSETTO:-0400
TZNAME:EDT
DTSTART:20260308T070000
END:DAYLIGHT
BEGIN:STANDARD
TZOFFSETFROM:-0400
TZOFFSETTO:-0500
TZNAME:EST
DTSTART:20261101T060000
END:STANDARD
END:VTIMEZONE
BEGIN:VEVENT
DTSTART;TZID=America/New_York:20251112T100000
DTEND;TZID=America/New_York:20251112T120000
DTSTAMP:20260424T111851
CREATED:20250724T141858Z
LAST-MODIFIED:20250724T142927Z
UID:10000419-1762941600-1762948800@www.statenislandmuseum.org
SUMMARY:Bird and Nature Walk: Wolfe’s Pond Park
DESCRIPTION:Join naturalists Ed Johnson and Ray Matarazzo with Director of Natural Science Colleen Evans on guided walks through the borough of parks. \nThe diversity of habitats (freshwater pond\, woodlands\, Raritan Bay) should yield a good mix of late migrants and winter residents. \nMeet in the parking lot near the Parks Dept. buildings.
URL:https://www.statenislandmuseum.org/event/bird-and-nature-walk-wolfes-pond-park-7/
LOCATION:Wolfe’s Pond Park\, 420 Cornelia Ave.\, Staten Island\, NY\, 10312\, United States
CATEGORIES:Nature Walk
ATTACH;FMTTYPE=image/jpeg:https://www.statenislandmuseum.org/wp-content/uploads/2024/11/red-tailed-hawk-scaled.jpg
END:VEVENT
END:VCALENDAR