BEGIN:VCALENDAR
VERSION:2.0
PRODID:-//Staten Island Museum - ECPv6.15.20//NONSGML v1.0//EN
CALSCALE:GREGORIAN
METHOD:PUBLISH
X-ORIGINAL-URL:https://www.statenislandmuseum.org
X-WR-CALDESC:Events for Staten Island Museum
REFRESH-INTERVAL;VALUE=DURATION:PT1H
X-Robots-Tag:noindex
X-PUBLISHED-TTL:PT1H
BEGIN:VTIMEZONE
TZID:America/New_York
BEGIN:DAYLIGHT
TZOFFSETFROM:-0500
TZOFFSETTO:-0400
TZNAME:EDT
DTSTART:20230312T070000
END:DAYLIGHT
BEGIN:STANDARD
TZOFFSETFROM:-0400
TZOFFSETTO:-0500
TZNAME:EST
DTSTART:20231105T060000
END:STANDARD
BEGIN:DAYLIGHT
TZOFFSETFROM:-0500
TZOFFSETTO:-0400
TZNAME:EDT
DTSTART:20240310T070000
END:DAYLIGHT
BEGIN:STANDARD
TZOFFSETFROM:-0400
TZOFFSETTO:-0500
TZNAME:EST
DTSTART:20241103T060000
END:STANDARD
BEGIN:DAYLIGHT
TZOFFSETFROM:-0500
TZOFFSETTO:-0400
TZNAME:EDT
DTSTART:20250309T070000
END:DAYLIGHT
BEGIN:STANDARD
TZOFFSETFROM:-0400
TZOFFSETTO:-0500
TZNAME:EST
DTSTART:20251102T060000
END:STANDARD
END:VTIMEZONE
BEGIN:VEVENT
DTSTART;VALUE=DATE:20240406
DTEND;VALUE=DATE:20240408
DTSTAMP:20260419T111001
CREATED:20240318T145049Z
LAST-MODIFIED:20240407T014922Z
UID:10000478-1712361600-1712534399@www.statenislandmuseum.org
SUMMARY:Solar Eclipse Glasses Giveaway Weekend
DESCRIPTION:UPDATE: We are all out of eclipse glasses. \nFree with full museum admission while supplies last. \nA total solar eclipse will cross North America on Monday\, April 8th. Visible from Texas to Maine\, this remarkable cosmic event will be most clear in the NYC area around 3:15 PM. Safely view this remarkable celestial event with a free pair of solar glasses available while supplies last.
URL:https://www.statenislandmuseum.org/event/solar-eclipse-glasses-giveaway-weekend/
LOCATION:Staten Island Museum at Snug Harbor\, 1000 Richmond Terrace\, Building A\, Staten Island\, NY\, 10301\, United States
CATEGORIES:Family
ATTACH;FMTTYPE=image/jpeg:https://www.statenislandmuseum.org/wp-content/uploads/2024/03/3d-solar-glasses.jpg
END:VEVENT
END:VCALENDAR