BEGIN:VCALENDAR
VERSION:2.0
PRODID:-//Staten Island Museum - ECPv6.15.20//NONSGML v1.0//EN
CALSCALE:GREGORIAN
METHOD:PUBLISH
X-WR-CALNAME:Staten Island Museum
X-ORIGINAL-URL:https://www.statenislandmuseum.org
X-WR-CALDESC:Events for Staten Island Museum
REFRESH-INTERVAL;VALUE=DURATION:PT1H
X-Robots-Tag:noindex
X-PUBLISHED-TTL:PT1H
BEGIN:VTIMEZONE
TZID:America/New_York
BEGIN:DAYLIGHT
TZOFFSETFROM:-0500
TZOFFSETTO:-0400
TZNAME:EDT
DTSTART:20240310T070000
END:DAYLIGHT
BEGIN:STANDARD
TZOFFSETFROM:-0400
TZOFFSETTO:-0500
TZNAME:EST
DTSTART:20241103T060000
END:STANDARD
BEGIN:DAYLIGHT
TZOFFSETFROM:-0500
TZOFFSETTO:-0400
TZNAME:EDT
DTSTART:20250309T070000
END:DAYLIGHT
BEGIN:STANDARD
TZOFFSETFROM:-0400
TZOFFSETTO:-0500
TZNAME:EST
DTSTART:20251102T060000
END:STANDARD
BEGIN:DAYLIGHT
TZOFFSETFROM:-0500
TZOFFSETTO:-0400
TZNAME:EDT
DTSTART:20260308T070000
END:DAYLIGHT
BEGIN:STANDARD
TZOFFSETFROM:-0400
TZOFFSETTO:-0500
TZNAME:EST
DTSTART:20261101T060000
END:STANDARD
END:VTIMEZONE
BEGIN:VEVENT
DTSTART;TZID=America/New_York:20250820T120000
DTEND;TZID=America/New_York:20250820T140000
DTSTAMP:20260419T132947
CREATED:20250424T160555Z
LAST-MODIFIED:20250424T160555Z
UID:10000531-1755691200-1755698400@www.statenislandmuseum.org
SUMMARY:Bird and Nature Walk: Great Kills Park (Timed for low tide at 12:33 pm)
DESCRIPTION:Join naturalists Ed Johnson and Ray Matarazzo with Director of Natural Science Colleen Evans on guided walks through the borough of parks. \nThe highlights for this walk will be migrating shorebirds\, in addition to waders and assorted.gulls and terns. \nMeet in the big parking lot\, and we will decide which route to take down to the beach & mud flats. Could be hot\, bring sunscreen & drinks.
URL:https://www.statenislandmuseum.org/event/bird-and-nature-walk-great-kills-park-timed-for-low-tide-at-1233-pm/
LOCATION:Great Kills Park
ATTACH;FMTTYPE=image/jpeg:https://www.statenislandmuseum.org/wp-content/uploads/2024/11/Great-Kills_August-2024_2-scaled-e1745510745966.jpg
END:VEVENT
END:VCALENDAR